BEGIN:VCALENDAR
VERSION:2.0
PRODID:-//Tineke van Urk - ECPv6.15.20//NONSGML v1.0//EN
CALSCALE:GREGORIAN
METHOD:PUBLISH
X-WR-CALNAME:Tineke van Urk
X-ORIGINAL-URL:https://tinekevanurk.nl
X-WR-CALDESC:Evenementen voor Tineke van Urk
REFRESH-INTERVAL;VALUE=DURATION:PT1H
X-Robots-Tag:noindex
X-PUBLISHED-TTL:PT1H
BEGIN:VTIMEZONE
TZID:Europe/Amsterdam
BEGIN:DAYLIGHT
TZOFFSETFROM:+0100
TZOFFSETTO:+0200
TZNAME:CEST
DTSTART:20190331T010000
END:DAYLIGHT
BEGIN:STANDARD
TZOFFSETFROM:+0200
TZOFFSETTO:+0100
TZNAME:CET
DTSTART:20191027T010000
END:STANDARD
BEGIN:DAYLIGHT
TZOFFSETFROM:+0100
TZOFFSETTO:+0200
TZNAME:CEST
DTSTART:20200329T010000
END:DAYLIGHT
BEGIN:STANDARD
TZOFFSETFROM:+0200
TZOFFSETTO:+0100
TZNAME:CET
DTSTART:20201025T010000
END:STANDARD
BEGIN:DAYLIGHT
TZOFFSETFROM:+0100
TZOFFSETTO:+0200
TZNAME:CEST
DTSTART:20210328T010000
END:DAYLIGHT
BEGIN:STANDARD
TZOFFSETFROM:+0200
TZOFFSETTO:+0100
TZNAME:CET
DTSTART:20211031T010000
END:STANDARD
BEGIN:DAYLIGHT
TZOFFSETFROM:+0100
TZOFFSETTO:+0200
TZNAME:CEST
DTSTART:20220327T010000
END:DAYLIGHT
BEGIN:STANDARD
TZOFFSETFROM:+0200
TZOFFSETTO:+0100
TZNAME:CET
DTSTART:20221030T010000
END:STANDARD
BEGIN:DAYLIGHT
TZOFFSETFROM:+0100
TZOFFSETTO:+0200
TZNAME:CEST
DTSTART:20230326T010000
END:DAYLIGHT
BEGIN:STANDARD
TZOFFSETFROM:+0200
TZOFFSETTO:+0100
TZNAME:CET
DTSTART:20231029T010000
END:STANDARD
BEGIN:DAYLIGHT
TZOFFSETFROM:+0100
TZOFFSETTO:+0200
TZNAME:CEST
DTSTART:20240331T010000
END:DAYLIGHT
BEGIN:STANDARD
TZOFFSETFROM:+0200
TZOFFSETTO:+0100
TZNAME:CET
DTSTART:20241027T010000
END:STANDARD
BEGIN:DAYLIGHT
TZOFFSETFROM:+0100
TZOFFSETTO:+0200
TZNAME:CEST
DTSTART:20250330T010000
END:DAYLIGHT
BEGIN:STANDARD
TZOFFSETFROM:+0200
TZOFFSETTO:+0100
TZNAME:CET
DTSTART:20251026T010000
END:STANDARD
BEGIN:DAYLIGHT
TZOFFSETFROM:+0100
TZOFFSETTO:+0200
TZNAME:CEST
DTSTART:20260329T010000
END:DAYLIGHT
BEGIN:STANDARD
TZOFFSETFROM:+0200
TZOFFSETTO:+0100
TZNAME:CET
DTSTART:20261025T010000
END:STANDARD
END:VTIMEZONE
BEGIN:VEVENT
DTSTART;TZID=Europe/Amsterdam:20250921T110000
DTEND;TZID=Europe/Amsterdam:20250921T170000
DTSTAMP:20260424T084750
CREATED:20250627T120804Z
LAST-MODIFIED:20250920T114239Z
UID:10002154-1758452400-1758474000@tinekevanurk.nl
SUMMARY:Tafelopstellingen in Beetsterzwaag
DESCRIPTION:Op zondag 21 september vind je Hans\, mijn witte prins\, met tafelopstellingen op de Marchakri spirituele beurs in Beetsterzwaag (Friesland).  \n\n\n\nIk hoop dat je er dan zult zijn\, want hij zit te popelen om je daar te bedienen. \n\n\n\nNatuurlijk heeft hij wat kaarten bij zich waaruit je kunt trekken\, maar een goed gesprek met hem\, of een tafelopstelling\, zal je het meest opleveren.  \n\n\n\nHans is allround in systemisch werk (opstellingen) en ervaren in vele hulpvormen. Zijn hulp is lekker concreet en afgestemd\, zodat je er echt mee verder komt. Stel dus snel je vraag en ervaar het zelf. Al je vragen zijn welkom. \n\n\n\nEen beursconsult kost die dag 25 euro. Een leuke kennismakingsprijs. Je kan op zo’n beurs ook met wat collega’s kennismaken en er een mooi dagje uit van maken. \n\n\n\nDe entree van de beurs bedraagt € 5\,00 en dit is inclusief de lezingen en workshops. Parkeren is gratis en er is voldoende parkeergelegenheid. De locatie is ook heel goed bereikbaar. \n\n\n\nMijn collega’s en ik staan die dag helemaal voor je klaar om lichaam en geest weer te laten stromen\, en/of je vragen te beantwoorden. Ik kijk ernaar uit om je weer te ontmoeten op deze gezellige beurs! \n\n\n\nTot dan! \n\n\n\nEvenementdetails\n\n\n\n\n\nBeurslocatie
URL:https://tinekevanurk.nl/activiteit/spirituele-beurs-21-september-2025/
LOCATION:Dorpshuis de Buorskip\, Vlaslaan 26\, Beetsterzwaag\, Friesland\, 9244CH\, Nederland
CATEGORIES:Spirituele Beurzen
ATTACH;FMTTYPE=image/jpeg:https://tinekevanurk.nl/wp-uploads/2025/06/hans-dewitteprins-beurs-twijzel-31-mei-2025-scaled.jpg
ORGANIZER;CN="Marchakri Spirituele beurzen":MAILTO:info@marchakri-spirituelebeurs.nl
GEO:53.0615611;6.0812195
X-APPLE-STRUCTURED-LOCATION;VALUE=URI;X-ADDRESS=Dorpshuis de Buorskip Vlaslaan 26 Beetsterzwaag Friesland 9244CH Nederland;X-APPLE-RADIUS=500;X-TITLE=Vlaslaan 26:geo:6.0812195,53.0615611
END:VEVENT
BEGIN:VEVENT
DTSTART;TZID=Europe/Amsterdam:20200329T103000
DTEND;TZID=Europe/Amsterdam:20200329T170000
DTSTAMP:20260424T084750
CREATED:20200201T072915Z
LAST-MODIFIED:20200201T072915Z
UID:10001212-1585477800-1585501200@tinekevanurk.nl
SUMMARY:Spirituele beurs (geannuleerd)
DESCRIPTION:Deze beurs is geannuleerd vanwege Corona en zal op 24 mei a.s. plaatsvinden. \nOp zondag 29 maart vind je me op de Spirituele Wellness & Mineralenbeurs in Beetsterszwaag. Het adres staat hieronder in het locatie-blok en ik zit te popelen om je daar te bedienen. \nNatuurlijk heb ik mijn Tarot & Orakel kaarten bij me voor kaartleggingen\, maar je kunt ook gewoon een reading halen. Al je vragen zijn welkom. Kom dus vooral langs en zeg het voort. \nToegang tot de beurs is € 7\,- en met kortingsbon betaal je maar € 5\,- Een beurs-consult kost die dag bij mij slechts 20 euro. Een leuke kennismakingsprijs en je kan dan meteen ook eens met wat collega’s kennismaken en er een mooi dagje uit van maken. \nDe Spirituele Wellness & Mineralenbeurs is een exclusieve beurs met een diversiteit aan stands. Je vindt er alles voor je algehele welzijn. Voel je dus welkom en kom ons daar ontmoeten. Mijn collega’s en ik staan die dag helemaal voor je klaar! \nTot dan! \n 
URL:https://tinekevanurk.nl/activiteit/spirituele-welness-mineralenbeurs-beetsterszwaag-29-maart-2029/
LOCATION:Dorpshuis de Buorskip\, Vlaslaan 26\, Beetsterzwaag\, Friesland\, 9244CH\, Nederland
CATEGORIES:Spirituele Beurzen
ATTACH;FMTTYPE=image/jpeg:https://tinekevanurk.nl/wp-uploads/2019/11/ontmoet-medium-tineke-op-een-spirituele-beurs-scaled.jpg
ORGANIZER;CN="Organisatiebureau P.C.P. (People Connect People)":MAILTO:info@pcpbeurs.nl
GEO:53.0615611;6.0812195
X-APPLE-STRUCTURED-LOCATION;VALUE=URI;X-ADDRESS=Dorpshuis de Buorskip Vlaslaan 26 Beetsterzwaag Friesland 9244CH Nederland;X-APPLE-RADIUS=500;X-TITLE=Vlaslaan 26:geo:6.0812195,53.0615611
END:VEVENT
END:VCALENDAR