BEGIN:VCALENDAR
VERSION:2.0
PRODID:-//Tineke van Urk - ECPv6.15.20//NONSGML v1.0//EN
CALSCALE:GREGORIAN
METHOD:PUBLISH
X-WR-CALNAME:Tineke van Urk
X-ORIGINAL-URL:https://tinekevanurk.nl
X-WR-CALDESC:Evenementen voor Tineke van Urk
REFRESH-INTERVAL;VALUE=DURATION:PT1H
X-Robots-Tag:noindex
X-PUBLISHED-TTL:PT1H
BEGIN:VTIMEZONE
TZID:Europe/Amsterdam
BEGIN:DAYLIGHT
TZOFFSETFROM:+0100
TZOFFSETTO:+0200
TZNAME:CEST
DTSTART:20250330T010000
END:DAYLIGHT
BEGIN:STANDARD
TZOFFSETFROM:+0200
TZOFFSETTO:+0100
TZNAME:CET
DTSTART:20251026T010000
END:STANDARD
BEGIN:DAYLIGHT
TZOFFSETFROM:+0100
TZOFFSETTO:+0200
TZNAME:CEST
DTSTART:20260329T010000
END:DAYLIGHT
BEGIN:STANDARD
TZOFFSETFROM:+0200
TZOFFSETTO:+0100
TZNAME:CET
DTSTART:20261025T010000
END:STANDARD
BEGIN:DAYLIGHT
TZOFFSETFROM:+0100
TZOFFSETTO:+0200
TZNAME:CEST
DTSTART:20270328T010000
END:DAYLIGHT
BEGIN:STANDARD
TZOFFSETFROM:+0200
TZOFFSETTO:+0100
TZNAME:CET
DTSTART:20271031T010000
END:STANDARD
END:VTIMEZONE
BEGIN:VEVENT
DTSTART;TZID=Europe/Amsterdam:20260307T110000
DTEND;TZID=Europe/Amsterdam:20260307T170000
DTSTAMP:20260424T084101
CREATED:20260111T192225Z
LAST-MODIFIED:20260302T192549Z
UID:10002183-1772881200-1772902800@tinekevanurk.nl
SUMMARY:Tafelopstellingen op Beurs in Hollandscheveld
DESCRIPTION:Op zaterdag 7 maart vind je Hans\, mijn witte prins\, met tafelopstellingen op de spirituele beurs van Mien Magie in Hollandscheveld (Drenthe). \n\n\n\nIk hoop dat je er dan zult zijn\, want hij zit te popelen om je daar te bedienen. \n\n\n\nNatuurlijk heeft hij wat kaarten bij zich waaruit je kunt trekken\, maar een goed gesprek met hem\, of een tafelopstelling\, zal je het meest opleveren.  \n\n\n\nNatuurlijk wil hij graag uitleggen over systemisch werk en familieopstellingen als je iets daarover wil weten. \n\n\n\nHans is allround in systemisch werk (opstellingen) en ervaren in vele hulpvormen. Zijn hulp is lekker concreet en afgestemd\, zodat je er echt mee verder komt. Stel dus snel je vraag en ervaar het zelf. Al je vragen zijn welkom. \n\n\n\nEen beursconsult kost die dag 25 euro. Een leuke kennismakingsprijs. Je kan op zo’n beurs ook met wat collega’s kennismaken en er een mooi dagje uit van maken. \n\n\n\nBeurstoegang is gratis\, net inclusief lezingen en workshops. Parkeren is gratis en er is voldoende parkeergelegenheid. De locatie is ook heel goed bereikbaar. \n\n\n\nMijn collega’s en Hans staan die dag helemaal voor je klaar om lichaam en geest weer te laten stromen\, en/of je vragen te beantwoorden. Zet ze maar aan het werk met je vragen. Hij ziet ernaar uit om je te ontmoeten op deze gezellige beurs! \n\n\n\nTot dan! \n\n\n\nEvenementdetails\n\n\n\n\n\nBeurslocatie
URL:https://tinekevanurk.nl/activiteit/spirituele-beurs-7-maart-2026/
LOCATION:Dorpscentrum ‘t Anker\, Otto Zomerweg 1\, Hollandscheveld\, Drenthe\, 7913 AE\, Nederland
CATEGORIES:Spirituele Beurzen
ATTACH;FMTTYPE=image/webp:https://tinekevanurk.nl/wp-uploads/2023/11/ontmoet-medium-tineke-op-een-spirituele-beurs.webp
ORGANIZER;CN="Mien Magie (Grietje Tuin-Fik)":MAILTO:g.g.tuinfik@gmail.com
END:VEVENT
END:VCALENDAR