BEGIN:VCALENDAR
VERSION:2.0
PRODID:-//Tineke van Urk - ECPv6.15.20//NONSGML v1.0//EN
CALSCALE:GREGORIAN
METHOD:PUBLISH
X-ORIGINAL-URL:https://tinekevanurk.nl
X-WR-CALDESC:Evenementen voor Tineke van Urk
REFRESH-INTERVAL;VALUE=DURATION:PT1H
X-Robots-Tag:noindex
X-PUBLISHED-TTL:PT1H
BEGIN:VTIMEZONE
TZID:Europe/Amsterdam
BEGIN:DAYLIGHT
TZOFFSETFROM:+0100
TZOFFSETTO:+0200
TZNAME:CEST
DTSTART:20240331T010000
END:DAYLIGHT
BEGIN:STANDARD
TZOFFSETFROM:+0200
TZOFFSETTO:+0100
TZNAME:CET
DTSTART:20241027T010000
END:STANDARD
BEGIN:DAYLIGHT
TZOFFSETFROM:+0100
TZOFFSETTO:+0200
TZNAME:CEST
DTSTART:20250330T010000
END:DAYLIGHT
BEGIN:STANDARD
TZOFFSETFROM:+0200
TZOFFSETTO:+0100
TZNAME:CET
DTSTART:20251026T010000
END:STANDARD
BEGIN:DAYLIGHT
TZOFFSETFROM:+0100
TZOFFSETTO:+0200
TZNAME:CEST
DTSTART:20260329T010000
END:DAYLIGHT
BEGIN:STANDARD
TZOFFSETFROM:+0200
TZOFFSETTO:+0100
TZNAME:CET
DTSTART:20261025T010000
END:STANDARD
END:VTIMEZONE
BEGIN:VEVENT
DTSTART;TZID=Europe/Amsterdam:20250622T110000
DTEND;TZID=Europe/Amsterdam:20250622T170000
DTSTAMP:20260424T105609
CREATED:20250615T155714Z
LAST-MODIFIED:20250627T131243Z
UID:10002149-1750590000-1750611600@tinekevanurk.nl
SUMMARY:Spirituele Beurs in Heerenveen
DESCRIPTION:Op zondag 22 juni vind je me op de Marchakri spirituele beurs in Heereveen (Friesland). Ik hoop dat je er dan zult zijn\, want ik zit te popelen om je daar te bedienen. \n\n\n\nNatuurlijk heb ik mijn Tarot & Orakel kaarten bij me voor kaartleggingen\, maar je kunt ook gewoon een reading halen. Al je vragen zijn welkom. \n\n\n\nEen beursconsult bij mij kost die dag 20 euro. Een leuke kennismakingsprijs. Je kan op zo’n beurs ook met wat collega’s kennismaken en er een mooi dagje uit van maken. \n\n\n\nDe entree van de beurs bedraagt € 2\,50. Ruime gratis parkeergelegenheid en heel goed bereikbaar. \n\n\n\nMijn collega’s en ik staan die dag helemaal voor je klaar om lichaam en geest weer te laten stromen\, en/of je vragen te beantwoorden. Ik kijk ernaar uit om je weer te ontmoeten op deze gezellige beurs! \n\n\n\nTot dan! \n\n\n\nEvenementdetails\n\n\n\n\n\nBeurslocatie
URL:https://tinekevanurk.nl/activiteit/spirituele-beurs-22-juni-2025/
LOCATION:Fletcher Hotel-Restaurant Heidehof\, Golflaan 1\, Heerenveen\, Friesland\, 8445 SR\, Nederland
CATEGORIES:Spirituele Beurzen
ATTACH;FMTTYPE=image/webp:https://tinekevanurk.nl/wp-uploads/2023/11/ontmoet-medium-tineke-op-een-spirituele-beurs.webp
ORGANIZER;CN="Marchakri Spirituele beurzen":MAILTO:info@marchakri-spirituelebeurs.nl
END:VEVENT
END:VCALENDAR