BEGIN:VCALENDAR
VERSION:2.0
PRODID:-//Tineke van Urk - ECPv6.15.20//NONSGML v1.0//EN
CALSCALE:GREGORIAN
METHOD:PUBLISH
X-ORIGINAL-URL:https://tinekevanurk.nl
X-WR-CALDESC:Evenementen voor Tineke van Urk
REFRESH-INTERVAL;VALUE=DURATION:PT1H
X-Robots-Tag:noindex
X-PUBLISHED-TTL:PT1H
BEGIN:VTIMEZONE
TZID:Europe/Amsterdam
BEGIN:DAYLIGHT
TZOFFSETFROM:+0100
TZOFFSETTO:+0200
TZNAME:CEST
DTSTART:20240331T010000
END:DAYLIGHT
BEGIN:STANDARD
TZOFFSETFROM:+0200
TZOFFSETTO:+0100
TZNAME:CET
DTSTART:20241027T010000
END:STANDARD
BEGIN:DAYLIGHT
TZOFFSETFROM:+0100
TZOFFSETTO:+0200
TZNAME:CEST
DTSTART:20250330T010000
END:DAYLIGHT
BEGIN:STANDARD
TZOFFSETFROM:+0200
TZOFFSETTO:+0100
TZNAME:CET
DTSTART:20251026T010000
END:STANDARD
BEGIN:DAYLIGHT
TZOFFSETFROM:+0100
TZOFFSETTO:+0200
TZNAME:CEST
DTSTART:20260329T010000
END:DAYLIGHT
BEGIN:STANDARD
TZOFFSETFROM:+0200
TZOFFSETTO:+0100
TZNAME:CET
DTSTART:20261025T010000
END:STANDARD
END:VTIMEZONE
BEGIN:VEVENT
DTSTART;TZID=Europe/Amsterdam:20250713T110000
DTEND;TZID=Europe/Amsterdam:20250713T170000
DTSTAMP:20260424T103815
CREATED:20250615T162115Z
LAST-MODIFIED:20250701T055401Z
UID:10002150-1752404400-1752426000@tinekevanurk.nl
SUMMARY:Spirituele Beurs in Dwingeloo
DESCRIPTION:Op zondag 13 juli vind je me op het zielsgelukkig spiritueel festival in Dwingeloo. Ik hoop dat je er zult zijn\, want ik zit te popelen om je daar te bedienen. \n\n\n\nNatuurlijk heb ik mijn Tarot & Orakel kaarten bij me voor kaartleggingen\, maar je kunt ook gewoon een reading halen. Al je vragen zijn welkom. \n\n\n\nEen beursconsult bij mij kost die dag 25 euro. Een leuke kennismakingsprijs. Je kan op zo’n beurs ook met wat collega’s kennismaken en er een mooi dagje uit van maken. \n\n\n\nToegang is die dag gratis\, net als lezingen\, workshops en parkeren. De locatie is een prachtige boerderij in een groen gebied. \n\n\n\nMijn collega’s en ik staan die dag helemaal voor je klaar om lichaam en geest weer te laten stromen\, en/of je vragen te beantwoorden. Ik kijk ernaar uit om je weer te ontmoeten op deze gezellige beurs! \n\n\n\nTot dan! \n\n\n\nEvenementdetails\n\n\n\n\n\nBeurslocatie
URL:https://tinekevanurk.nl/activiteit/spirituele-beurs-13-juli-2025/
LOCATION:Fletcher Landhotel De Borken in Dwingeloo\, Lhee 76\, Dwingeloo\, Drenthe\, 7991 PJ\, Nederland
CATEGORIES:Spirituele Beurzen
ATTACH;FMTTYPE=image/webp:https://tinekevanurk.nl/wp-uploads/2023/11/ontmoet-medium-tineke-op-een-spirituele-beurs.webp
ORGANIZER;CN="Zielsgelukkig Verbinding":MAILTO:info@zielsgelukkigverbinding.nl
END:VEVENT
END:VCALENDAR