BEGIN:VCALENDAR
VERSION:2.0
PRODID:-//Tineke van Urk - ECPv6.15.20//NONSGML v1.0//EN
CALSCALE:GREGORIAN
METHOD:PUBLISH
X-WR-CALNAME:Tineke van Urk
X-ORIGINAL-URL:https://tinekevanurk.nl
X-WR-CALDESC:Evenementen voor Tineke van Urk
REFRESH-INTERVAL;VALUE=DURATION:PT1H
X-Robots-Tag:noindex
X-PUBLISHED-TTL:PT1H
BEGIN:VTIMEZONE
TZID:Europe/Amsterdam
BEGIN:DAYLIGHT
TZOFFSETFROM:+0100
TZOFFSETTO:+0200
TZNAME:CEST
DTSTART:20240331T010000
END:DAYLIGHT
BEGIN:STANDARD
TZOFFSETFROM:+0200
TZOFFSETTO:+0100
TZNAME:CET
DTSTART:20241027T010000
END:STANDARD
BEGIN:DAYLIGHT
TZOFFSETFROM:+0100
TZOFFSETTO:+0200
TZNAME:CEST
DTSTART:20250330T010000
END:DAYLIGHT
BEGIN:STANDARD
TZOFFSETFROM:+0200
TZOFFSETTO:+0100
TZNAME:CET
DTSTART:20251026T010000
END:STANDARD
BEGIN:DAYLIGHT
TZOFFSETFROM:+0100
TZOFFSETTO:+0200
TZNAME:CEST
DTSTART:20260329T010000
END:DAYLIGHT
BEGIN:STANDARD
TZOFFSETFROM:+0200
TZOFFSETTO:+0100
TZNAME:CET
DTSTART:20261025T010000
END:STANDARD
BEGIN:DAYLIGHT
TZOFFSETFROM:+0100
TZOFFSETTO:+0200
TZNAME:CEST
DTSTART:20270328T010000
END:DAYLIGHT
BEGIN:STANDARD
TZOFFSETFROM:+0200
TZOFFSETTO:+0100
TZNAME:CET
DTSTART:20271031T010000
END:STANDARD
END:VTIMEZONE
BEGIN:VEVENT
DTSTART;TZID=Europe/Amsterdam:20260222T110000
DTEND;TZID=Europe/Amsterdam:20260222T170000
DTSTAMP:20260424T102112
CREATED:20250627T123444Z
LAST-MODIFIED:20260218T132122Z
UID:10002158-1771758000-1771779600@tinekevanurk.nl
SUMMARY:Spirituele Beurs in Joure
DESCRIPTION:Op zondag 22 juni vind je me op de Marchakri spirituele beurs in Joure (Friesland). Ik hoop dat je er dan zult zijn\, want ik zit te popelen om je daar te bedienen. \n\n\n\nNatuurlijk heb ik mijn Tarot & Orakel kaarten bij me voor kaartleggingen\, maar je kunt ook gewoon een reading halen. Al je vragen zijn welkom. \n\n\n\nEen beursconsult bij mij kost die dag 20 euro. Een leuke kennismakingsprijs. Je kan op zo’n beurs ook met wat collega’s kennismaken en er een mooi dagje uit van maken. \n\n\n\nDe entree van de beurs bedraagt € 5\,–. Ruime gratis parkeergelegenheid en heel goed bereikbaar. \n\n\n\nMijn collega’s en ik staan die dag helemaal voor je klaar om lichaam en geest weer te laten stromen\, en/of je vragen te beantwoorden. Ik kijk ernaar uit om je weer te ontmoeten op deze gezellige beurs! \n\n\n\nTot dan! \n\n\n\nEvenementdetails\n\n\n\n\n\nBeurslocatie
URL:https://tinekevanurk.nl/activiteit/spirituele-beurs-22-februari-2026/
LOCATION:Zalencentrum ‘t Haske\, Vegelinsweg 20\, Joure\, Friesland\, 8501 BA\, Nederland
CATEGORIES:Spirituele Beurzen
ATTACH;FMTTYPE=image/webp:https://tinekevanurk.nl/wp-uploads/2023/11/ontmoet-medium-tineke-op-een-spirituele-beurs.webp
ORGANIZER;CN="Marchakri Spirituele beurzen":MAILTO:info@marchakri-spirituelebeurs.nl
END:VEVENT
BEGIN:VEVENT
DTSTART;TZID=Europe/Amsterdam:20260201T110000
DTEND;TZID=Europe/Amsterdam:20260201T170000
DTSTAMP:20260424T102112
CREATED:20250627T122918Z
LAST-MODIFIED:20260128T145130Z
UID:10002157-1769943600-1769965200@tinekevanurk.nl
SUMMARY:Spirituele Beurs in De Bult
DESCRIPTION:Op zondag 1 februari vind je me op de Marchakri spirirtuele beurs in De Bult (Overijssel). Ik hoop dat je er dan zult zijn\, want ik zit te popelen om je daar te bedienen. \n\n\n\nNatuurlijk heb ik mijn Tarot & Orakel kaarten bij me voor kaartleggingen\, maar je kunt ook gewoon een reading halen. Al je vragen zijn welkom. \n\n\n\nEen beursconsult bij mij kost die dag 25 euro. Een leuke kennismakingsprijs. Je kan op zo’n beurs ook met wat collega’s kennismaken en er een mooi dagje uit van maken. \n\n\n\nRuime gratis parkeergelegenheid en heel goed bereikbaar. \n\n\n\nMijn collega’s en ik staan die dag helemaal voor je klaar om lichaam en geest weer te laten stromen\, en/of je vragen te beantwoorden. Ik kijk ernaar uit om je weer te ontmoeten op deze gezellige beurs! \n\n\n\nTot dan! \n\n\n\nEvenementdetails\n\n\n\n\n\nBeurslocatie
URL:https://tinekevanurk.nl/activiteit/spirituele-beurs-1-februari-2026/
LOCATION:Fletcher Hotel De Eese-Giethoorn\, Duivenslaagte 2\, De Bult\, Overijssel\, 8346 KH\, Netherlands
CATEGORIES:Spirituele Beurzen
ATTACH;FMTTYPE=image/webp:https://tinekevanurk.nl/wp-uploads/2023/11/ontmoet-medium-tineke-op-een-spirituele-beurs.webp
ORGANIZER;CN="Marchakri Spirituele beurzen":MAILTO:info@marchakri-spirituelebeurs.nl
END:VEVENT
BEGIN:VEVENT
DTSTART;TZID=Europe/Amsterdam:20251130T110000
DTEND;TZID=Europe/Amsterdam:20251130T170000
DTSTAMP:20260424T102112
CREATED:20250627T122552Z
LAST-MODIFIED:20250627T124055Z
UID:10002156-1764500400-1764522000@tinekevanurk.nl
SUMMARY:Spirituele Beurs in Paterswolde
DESCRIPTION:Op zondag 22 juni vind je me op de Marchakri spirituele beurs in Paterswolde (Drenthe). Ik hoop dat je er dan zult zijn\, want ik zit te popelen om je daar te bedienen. \n\n\n\nNatuurlijk heb ik mijn Tarot & Orakel kaarten bij me voor kaartleggingen\, maar je kunt ook gewoon een reading halen. Al je vragen zijn welkom. \n\n\n\nEen beursconsult bij mij kost die dag 25 euro. Een leuke kennismakingsprijs. Je kan op zo’n beurs ook met wat collega’s kennismaken en er een mooi dagje uit van maken. \n\n\n\nDe entree van de beurs bedraagt € 5\,-. Ruime gratis parkeergelegenheid en heel goed bereikbaar. \n\n\n\nMijn collega’s en ik staan die dag helemaal voor je klaar om lichaam en geest weer te laten stromen\, en/of je vragen te beantwoorden. Ik kijk ernaar uit om je weer te ontmoeten op deze gezellige beurs! \n\n\n\nTot dan! \n\n\n\nEvenementdetails\n\n\n\n\n\nBeurslocatie
URL:https://tinekevanurk.nl/activiteit/spirituele-beurs-30-november-2025/
LOCATION:Fletcher Familiehotel Paterswolde\, Groningerweg 19\, Paterswolde\, Drenthe\, 9765 TA\, Nederland
CATEGORIES:Spirituele Beurzen
ATTACH;FMTTYPE=image/webp:https://tinekevanurk.nl/wp-uploads/2023/11/ontmoet-medium-tineke-op-een-spirituele-beurs.webp
ORGANIZER;CN="Marchakri Spirituele beurzen":MAILTO:info@marchakri-spirituelebeurs.nl
END:VEVENT
BEGIN:VEVENT
DTSTART;TZID=Europe/Amsterdam:20251102T110000
DTEND;TZID=Europe/Amsterdam:20251102T170000
DTSTAMP:20260424T102112
CREATED:20250627T122314Z
LAST-MODIFIED:20251029T165851Z
UID:10002155-1762081200-1762102800@tinekevanurk.nl
SUMMARY:Tafelopstellingen op Beurs in Wolvega
DESCRIPTION:Op zondag 2 november vind je Hans\, mijn witte prins\, met tafelopstellingen op de Marchakri spirituele beurs in Wolvega (Friesland). \n\n\n\nIk hoop dat je er dan zult zijn\, want hij zit te popelen om je daar te bedienen. \n\n\n\nNatuurlijk heeft hij wat kaarten bij zich waaruit je kunt trekken\, maar een goed gesprek met hem\, of een tafelopstelling\, zal je het meest opleveren.  \n\n\n\nJe kan ook deelnemen aan een gratis introductieworkshop Familieopstellingen met hem om 15:30. Altijd leuk en als je meer wilt weten over hoe hij werkt dan kan je het daar vragen en misschien zelfs ervaren. \n\n\n\nHans is allround in systemisch werk (opstellingen) en ervaren in vele hulpvormen. Zijn hulp is lekker concreet en afgestemd\, zodat je er echt mee verder komt. Stel dus snel je vraag en ervaar het zelf. Al je vragen zijn welkom. \n\n\n\nEen beursconsult kost die dag 25 euro. Een leuke kennismakingsprijs. Je kan op zo’n beurs ook met wat collega’s kennismaken en er een mooi dagje uit van maken. \n\n\n\nDe entree van de beurs bedraagt € 5\,00 en dit is inclusief de lezingen en workshops. Parkeren is gratis en er is voldoende parkeergelegenheid. De locatie is ook heel goed bereikbaar. \n\n\n\nMijn collega’s en ik staan die dag helemaal voor je klaar om lichaam en geest weer te laten stromen\, en/of je vragen te beantwoorden. Ik kijk ernaar uit om je weer te ontmoeten op deze gezellige beurs! \n\n\n\nTot dan! \n\n\n\nEvenementdetails\n\n\n\n\n\nBeurslocatie
URL:https://tinekevanurk.nl/activiteit/spirituele-beurs-2-november-2025/
LOCATION:Victoria Park Wolvega\, Drafsportlaan 20\, Wolvega\, Friesland\, 8472 AS\, Nederland
CATEGORIES:Spirituele Beurzen
ATTACH;FMTTYPE=image/jpeg:https://tinekevanurk.nl/wp-uploads/2025/06/hans-dewitteprins-beurs-twijzel-31-mei-2025-scaled.jpg
ORGANIZER;CN="Marchakri Spirituele beurzen":MAILTO:info@marchakri-spirituelebeurs.nl
END:VEVENT
BEGIN:VEVENT
DTSTART;TZID=Europe/Amsterdam:20250921T110000
DTEND;TZID=Europe/Amsterdam:20250921T170000
DTSTAMP:20260424T102112
CREATED:20250627T120804Z
LAST-MODIFIED:20250920T114239Z
UID:10002154-1758452400-1758474000@tinekevanurk.nl
SUMMARY:Tafelopstellingen in Beetsterzwaag
DESCRIPTION:Op zondag 21 september vind je Hans\, mijn witte prins\, met tafelopstellingen op de Marchakri spirituele beurs in Beetsterzwaag (Friesland).  \n\n\n\nIk hoop dat je er dan zult zijn\, want hij zit te popelen om je daar te bedienen. \n\n\n\nNatuurlijk heeft hij wat kaarten bij zich waaruit je kunt trekken\, maar een goed gesprek met hem\, of een tafelopstelling\, zal je het meest opleveren.  \n\n\n\nHans is allround in systemisch werk (opstellingen) en ervaren in vele hulpvormen. Zijn hulp is lekker concreet en afgestemd\, zodat je er echt mee verder komt. Stel dus snel je vraag en ervaar het zelf. Al je vragen zijn welkom. \n\n\n\nEen beursconsult kost die dag 25 euro. Een leuke kennismakingsprijs. Je kan op zo’n beurs ook met wat collega’s kennismaken en er een mooi dagje uit van maken. \n\n\n\nDe entree van de beurs bedraagt € 5\,00 en dit is inclusief de lezingen en workshops. Parkeren is gratis en er is voldoende parkeergelegenheid. De locatie is ook heel goed bereikbaar. \n\n\n\nMijn collega’s en ik staan die dag helemaal voor je klaar om lichaam en geest weer te laten stromen\, en/of je vragen te beantwoorden. Ik kijk ernaar uit om je weer te ontmoeten op deze gezellige beurs! \n\n\n\nTot dan! \n\n\n\nEvenementdetails\n\n\n\n\n\nBeurslocatie
URL:https://tinekevanurk.nl/activiteit/spirituele-beurs-21-september-2025/
LOCATION:Dorpshuis de Buorskip\, Vlaslaan 26\, Beetsterzwaag\, Friesland\, 9244CH\, Nederland
CATEGORIES:Spirituele Beurzen
ATTACH;FMTTYPE=image/jpeg:https://tinekevanurk.nl/wp-uploads/2025/06/hans-dewitteprins-beurs-twijzel-31-mei-2025-scaled.jpg
ORGANIZER;CN="Marchakri Spirituele beurzen":MAILTO:info@marchakri-spirituelebeurs.nl
GEO:53.0615611;6.0812195
X-APPLE-STRUCTURED-LOCATION;VALUE=URI;X-ADDRESS=Dorpshuis de Buorskip Vlaslaan 26 Beetsterzwaag Friesland 9244CH Nederland;X-APPLE-RADIUS=500;X-TITLE=Vlaslaan 26:geo:6.0812195,53.0615611
END:VEVENT
BEGIN:VEVENT
DTSTART;TZID=Europe/Amsterdam:20250622T110000
DTEND;TZID=Europe/Amsterdam:20250622T170000
DTSTAMP:20260424T102112
CREATED:20250615T155714Z
LAST-MODIFIED:20250627T131243Z
UID:10002149-1750590000-1750611600@tinekevanurk.nl
SUMMARY:Spirituele Beurs in Heerenveen
DESCRIPTION:Op zondag 22 juni vind je me op de Marchakri spirituele beurs in Heereveen (Friesland). Ik hoop dat je er dan zult zijn\, want ik zit te popelen om je daar te bedienen. \n\n\n\nNatuurlijk heb ik mijn Tarot & Orakel kaarten bij me voor kaartleggingen\, maar je kunt ook gewoon een reading halen. Al je vragen zijn welkom. \n\n\n\nEen beursconsult bij mij kost die dag 20 euro. Een leuke kennismakingsprijs. Je kan op zo’n beurs ook met wat collega’s kennismaken en er een mooi dagje uit van maken. \n\n\n\nDe entree van de beurs bedraagt € 2\,50. Ruime gratis parkeergelegenheid en heel goed bereikbaar. \n\n\n\nMijn collega’s en ik staan die dag helemaal voor je klaar om lichaam en geest weer te laten stromen\, en/of je vragen te beantwoorden. Ik kijk ernaar uit om je weer te ontmoeten op deze gezellige beurs! \n\n\n\nTot dan! \n\n\n\nEvenementdetails\n\n\n\n\n\nBeurslocatie
URL:https://tinekevanurk.nl/activiteit/spirituele-beurs-22-juni-2025/
LOCATION:Fletcher Hotel-Restaurant Heidehof\, Golflaan 1\, Heerenveen\, Friesland\, 8445 SR\, Nederland
CATEGORIES:Spirituele Beurzen
ATTACH;FMTTYPE=image/webp:https://tinekevanurk.nl/wp-uploads/2023/11/ontmoet-medium-tineke-op-een-spirituele-beurs.webp
ORGANIZER;CN="Marchakri Spirituele beurzen":MAILTO:info@marchakri-spirituelebeurs.nl
END:VEVENT
BEGIN:VEVENT
DTSTART;TZID=Europe/Amsterdam:20250330T110000
DTEND;TZID=Europe/Amsterdam:20250330T170000
DTSTAMP:20260424T102112
CREATED:20250121T194830Z
LAST-MODIFIED:20250121T195759Z
UID:10002136-1743332400-1743354000@tinekevanurk.nl
SUMMARY:Spirituele Beurs in Oldeberkoop
DESCRIPTION:Op zondag 30 maart vind je me op een spirituele beurs in Oldeberkoop (Friesland). Ik hoop dat je er dan zult zijn\, want ik zit te popelen om je daar te bedienen. \n\n\n\nNatuurlijk heb ik mijn Tarot & Orakel kaarten bij me voor kaartleggingen\, maar je kunt ook gewoon een reading halen. Al je vragen zijn welkom. \n\n\n\nEen beursconsult bij mij kost die dag 25 euro. Een leuke kennismakingsprijs. Je kan op zo’n beurs ook met wat collega’s kennismaken en er een mooi dagje uit van maken. \n\n\n\nDe toegang\, lezingen\, workshops en parkeren zijn gratis. \n\n\n\nMijn collega’s en ik staan die dag helemaal voor je klaar om lichaam en geest weer te laten stromen\, en/of je vragen te beantwoorden. Ik kijk ernaar uit om je weer te ontmoeten op deze gezellige beurs! \n\n\n\nTot dan! \n\n\n\nEvenementdetails\n\n\n\n\n\nBeurslocatie
URL:https://tinekevanurk.nl/activiteit/spirituele-beurs-30-maart-2025/
LOCATION:MFA Oldeberkoop\, Willinge Prinsstraat 24\, Oldeberkoop\, Friesland\, 8421 PE\, Nederland
CATEGORIES:Spirituele Beurzen
ATTACH;FMTTYPE=image/webp:https://tinekevanurk.nl/wp-uploads/2023/11/ontmoet-medium-tineke-op-een-spirituele-beurs.webp
ORGANIZER;CN="Marchakri Spirituele beurzen":MAILTO:info@marchakri-spirituelebeurs.nl
END:VEVENT
BEGIN:VEVENT
DTSTART;TZID=Europe/Amsterdam:20250223T110000
DTEND;TZID=Europe/Amsterdam:20250223T170000
DTSTAMP:20260424T102112
CREATED:20250121T193523Z
LAST-MODIFIED:20250121T193939Z
UID:10002135-1740308400-1740330000@tinekevanurk.nl
SUMMARY:Spirituele Beurs in Joure
DESCRIPTION:Op zondag 23 februari vind je me op een spirituele beurs in Joure (Friesland). Ik hoop dat je er dan zult zijn\, want ik zit te popelen om je daar te bedienen. \n\n\n\nNatuurlijk heb ik mijn Tarot & Orakel kaarten bij me voor kaartleggingen\, maar je kunt ook gewoon een reading halen. Al je vragen zijn welkom. \n\n\n\nEen beursconsult bij mij kost die dag 25 euro. Een leuke kennismakingsprijs. Je kan op zo’n beurs ook met wat collega’s kennismaken en er een mooi dagje uit van maken. \n\n\n\nDe toegang\, lezingen\, workshops en parkeren zijn gratis. \n\n\n\nMijn collega’s en ik staan die dag helemaal voor je klaar om lichaam en geest weer te laten stromen\, en/of je vragen te beantwoorden. Ik kijk ernaar uit om je weer te ontmoeten op deze gezellige beurs! \n\n\n\nTot dan! \n\n\n\nEvenementdetails\n\n\n\n\n\nBeurslocatie
URL:https://tinekevanurk.nl/activiteit/spirituele-beurs-23-februari-2025/
LOCATION:Zalencentrum ‘t Haske\, Vegelinsweg 20\, Joure\, Friesland\, 8501 BA\, Nederland
CATEGORIES:Spirituele Beurzen
ATTACH;FMTTYPE=image/webp:https://tinekevanurk.nl/wp-uploads/2023/11/ontmoet-medium-tineke-op-een-spirituele-beurs.webp
ORGANIZER;CN="Marchakri Spirituele beurzen":MAILTO:info@marchakri-spirituelebeurs.nl
END:VEVENT
END:VCALENDAR